BEGIN:VCALENDAR
VERSION:2.0
PRODID:-//BlackFrogs - ECPv5.9.1//NONSGML v1.0//EN
CALSCALE:GREGORIAN
METHOD:PUBLISH
X-WR-CALNAME:BlackFrogs
X-ORIGINAL-URL:https://blackfrogs.lu
X-WR-CALDESC:Veranstaltungen für BlackFrogs
BEGIN:VTIMEZONE
TZID:UTC
BEGIN:STANDARD
TZOFFSETFROM:+0000
TZOFFSETTO:+0000
TZNAME:UTC
DTSTART:20170101T000000
END:STANDARD
END:VTIMEZONE
BEGIN:VEVENT
DTSTART;TZID=UTC:20170524T070000
DTEND;TZID=UTC:20170524T233000
DTSTAMP:20211007T121314
CREATED:20170501T183618Z
LAST-MODIFIED:20170501T183618Z
UID:573-1495609200-1495668600@blackfrogs.lu
SUMMARY:Quizowend 2017
DESCRIPTION:
URL:https://blackfrogs.lu/event/quizowend-2017/
LOCATION:Hall Sportif\, route de stegen\, schieren\, Luxembourg
END:VEVENT
END:VCALENDAR