BEGIN:VCALENDAR
VERSION:2.0
PRODID:-//BlackFrogs - ECPv5.9.1//NONSGML v1.0//EN
CALSCALE:GREGORIAN
METHOD:PUBLISH
X-WR-CALNAME:BlackFrogs
X-ORIGINAL-URL:https://blackfrogs.lu
X-WR-CALDESC:Veranstaltungen für BlackFrogs
BEGIN:VTIMEZONE
TZID:UTC
BEGIN:STANDARD
TZOFFSETFROM:+0000
TZOFFSETTO:+0000
TZNAME:UTC
DTSTART:20150101T000000
END:STANDARD
END:VTIMEZONE
BEGIN:VEVENT
DTSTART;TZID=UTC:20151024T100000
DTEND;TZID=UTC:20151024T233000
DTSTAMP:20211007T121107
CREATED:20151019T150839Z
LAST-MODIFIED:20151019T152647Z
UID:95-1445680800-1445729400@blackfrogs.lu
SUMMARY:Basket-Schnupperdaag 2015
DESCRIPTION:Den BBC Black Frogs Schieren organiséiert en Schnupperdaag fir jonk Leit fir den Basket ze begeeschteren. Wanns du Loscht hues\, Basket eng Kéier auszeprobeiren\, dann komm einfach Samsdes\, den 24. Oktober op Schieren luussen ! Kollegen\, Frendinnen\, Schwester an Brudder kanns du natirlech och gäer matbrengen !   \nWini ? Samsdes\, den 24. Oktober 2015 vun 10:00 bis 11:30\nWou ? Zu Schieren an der Sportshaal\nWaat matbrengen ? Turnschlappen an bequem Kleeder fir Sport ze maachen\nFir ween ? Jiddereen ass wellkomm an et ass gratis ! \nD’Eltern kennen och roueg matkommen. Fir si ass d’Buvette op\, wou fir eng Taass Kaffi\, en Apéritif oder en Snack gesuergt ass. No den sportlechen Aktivitéiten stin d’Traineren bereed fir äer eventuell Froën ze beäntweren. \nMir géifen eis op däin Besuch frëen ! \nD’Jugendcommissioun vum BBC Black Frogs Schieren \n 
URL:https://blackfrogs.lu/event/basket-schnupperdaag-2015/
LOCATION:Hall Sportif\, route de stegen\, schieren\, Luxembourg
ORGANIZER;CN="Jugendcommissioun":MAILTO:info@blackfrogs.lu
END:VEVENT
END:VCALENDAR