BEGIN:VCALENDAR
VERSION:2.0
PRODID:-//BlackFrogs - ECPv5.2.1//NONSGML v1.0//EN
CALSCALE:GREGORIAN
METHOD:PUBLISH
X-WR-CALNAME:BlackFrogs
X-ORIGINAL-URL:http://blackfrogs.lu
X-WR-CALDESC:Veranstaltungen für BlackFrogs
BEGIN:VTIMEZONE
TZID:UTC
BEGIN:STANDARD
TZOFFSETFROM:+0000
TZOFFSETTO:+0000
TZNAME:UTC
DTSTART:20160101T000000
END:STANDARD
END:VTIMEZONE
BEGIN:VEVENT
DTSTART;TZID=UTC:20161008T143000
DTEND;TZID=UTC:20161008T230000
DTSTAMP:20210722T185827
CREATED:20160926T080521Z
LAST-MODIFIED:20160926T080521Z
UID:384-1475937000-1475967600@blackfrogs.lu
SUMMARY:Flüchtlingsdag + Season Opening
DESCRIPTION:Den Samsden\, 8. Oktober invitéiren d’Black Frogs Schieren op hier éischt Heemmatcher vun hieren Seniors-Ekippen. Am Nometten organiséiren mir en Schnuppertraining fir Flüchtlingskanner. \nProgramm:\n14h30: Schnupper-Training fir Flüchtlingskanner.\n16h30: Minis-Match: Schieren – Kayldall\n18h30: Dames-Match: Schieren – Wiltz\n20h30: Seniors A-Match: Schieren – Wiltz \nKommt alleguer d’Black Frogs bei hieren Matcher ennerstetzen an un deser kultureller Rencontre deelhuelen. \nVir den Honger ass natirlech och gesuergt\, an zwar mat lecker Kniddlen mat oder ouni Speck an Kompott.\n\nLeider hun net all d’Kanner aus dem Flüchtlingsheem Sportskleeder oder Turnschlappen vir richteg kennen mat ze trainéiren\, dovir géifen mir eis op puer Spenden freen. Gesicht ginn virun allem: \n– Sportskleedung an allen Greissten an Farwen 🙂\n– Turnschlappen an allen Greissten\n– Jogging an allen Greissten\n– Sportsposchen sinn och gaer gesin
URL:http://blackfrogs.lu/event/fluchtlingsdag-season-opening/
LOCATION:Hall Sportif\, route de stegen\, schieren\, Luxembourg
END:VEVENT
END:VCALENDAR