BEGIN:VCALENDAR
VERSION:2.0
PRODID:-//BlackFrogs - ECPv5.2.1//NONSGML v1.0//EN
CALSCALE:GREGORIAN
METHOD:PUBLISH
X-WR-CALNAME:BlackFrogs
X-ORIGINAL-URL:http://blackfrogs.lu
X-WR-CALDESC:Veranstaltungen für BlackFrogs
BEGIN:VTIMEZONE
TZID:UTC
BEGIN:STANDARD
TZOFFSETFROM:+0000
TZOFFSETTO:+0000
TZNAME:UTC
DTSTART:20150101T000000
END:STANDARD
END:VTIMEZONE
BEGIN:VEVENT
DTSTART;TZID=UTC:20150919T220000
DTEND;TZID=UTC:20150920T030000
DTSTAMP:20210722T185727
CREATED:20150914T201106Z
LAST-MODIFIED:20150914T201106Z
UID:51-1442700000-1442718000@blackfrogs.lu
SUMMARY:Disco Black Frogs
DESCRIPTION:
URL:http://blackfrogs.lu/event/disco-black-frogs/
LOCATION:Hall Sportif\, route de stegen\, schieren\, Luxembourg
ORGANIZER;CN="Unnamed%20Organizer":MAILTO:anouk@blackfrogs.lu
END:VEVENT
END:VCALENDAR